BEGIN:VCALENDAR
PRODID:-//eluceo/ical//2.0/EN
VERSION:2.0
CALSCALE:GREGORIAN
BEGIN:VEVENT
UID:3b3843a5d7571377802a45fdab44aed7
DTSTAMP:20260423T165646Z
SUMMARY:Aufnahme von Markus Schmid
DESCRIPTION:Webbplats: http://www.park-hotel.ch\nTalare: 
URL:https://rotary-laufenburg.ch/sv/agenda/show/208419
DTSTART;TZID=Europe/Zurich:20260430T183000
DTEND;TZID=Europe/Zurich:20260430T210000
LOCATION:Park-Hotel am Rhein\, Rheinfelden\, Roberstenstrasse 31\, 4310 Rhe
 infelden\, Schweiz
CATEGORIES:Rotary
END:VEVENT
BEGIN:VTIMEZONE
TZID:Europe/Zurich
BEGIN:DAYLIGHT
DTSTART:20260430T183000
TZNAME:CEST
TZOFFSETTO:+0200
TZOFFSETFROM:+0200
END:DAYLIGHT
END:VTIMEZONE
END:VCALENDAR
