BEGIN:VCALENDAR
PRODID:-//eluceo/ical//2.0/EN
VERSION:2.0
CALSCALE:GREGORIAN
BEGIN:VEVENT
UID:50768668fd9bbb843ff280012eba83d9
DTSTAMP:20260420T131541Z
SUMMARY:Marcel Aumer - Flex Base Laufenburg / Aufnahme Gaby Gerber & Corinn
 e Caracuta
DESCRIPTION:Webbplats: http://www.park-hotel.ch\nTalare: Aufnahme Neumitgli
 eder Gaby Gerber & Corinne CaracutaWir freuen uns über das Referat von He
 rrn Aumer zum Thema "Wie vereint man einen Weltgrössten Batteriespeicher 
 und ein Rechenzentrum für künstliche Intelligenz mit Nachhaltigkeit". Da
 s Projekt entsteht in Laufenburg AG. FlexBase TZLDas ProjektIn Zusammenar
 beit mit Universitäten\, Fachhochschulen\, internationalen Organisationen
  zur Förderung der Forschung und Wissenschaft sowie multinationalen Unter
 nehmen entsteht unmittelbar neben der Stromdrehscheibe Europas\, dem sogen
 annten «Stern von Laufenburg»\, das FlexBase Technologiezentrum Laufenbu
 rg (TZL). Herzstück bildet ein neuer\, 168 Meter langer\, 79 Meter breite
 r\, 25 Meter unterkellerter und 30 Meter hoher Kubus gleich gegenüber dem
  bestehenden Betriebsgebäude der ehemaligen Elektrizitätsgesellschaft La
 ufenburg (EGL) und der nationalen Netzgesellschaft Swissgrid: Auf einer Fl
 äche von über 20'000 Quadratmetern entsteht der weltweit grösste und mo
 dernste Batteriespeicher\, der die effiziente Nutzung erneuerbarer Energie
 n ermöglicht und mithilft\, die Stromnetze zu stabilisieren und die Herau
 sforderungen der Energiewende in einem internationalen Kontext zu bewälti
 gen. 
URL:https://rotary-laufenburg.ch/sv/agenda/show/187979
DTSTART;TZID=Europe/Zurich:20250522T180000
DTEND;TZID=Europe/Zurich:20250522T200000
LOCATION:Park-Hotel am Rhein\, Rheinfelden\, Roberstenstrasse 31\, 4310 Rhe
 infelden\, Schweiz
CATEGORIES:Rotary
END:VEVENT
BEGIN:VTIMEZONE
TZID:Europe/Zurich
BEGIN:DAYLIGHT
DTSTART:20250522T180000
TZNAME:CEST
TZOFFSETTO:+0200
TZOFFSETFROM:+0200
END:DAYLIGHT
END:VTIMEZONE
END:VCALENDAR
