BEGIN:VCALENDAR
PRODID:-//eluceo/ical//2.0/EN
VERSION:2.0
CALSCALE:GREGORIAN
BEGIN:VEVENT
UID:aea81efc341f4481d4b65606037babc5
DTSTAMP:20260420T132237Z
SUMMARY:Referat Rolf Gall\, Praxiswerk Atelier Gewässer
DESCRIPTION:Webbplats: https://www.post-boezen.ch/\nTalare: "Im Jahr 2023 w
 urde der Magdenerbach zwischen\nMagden und Rheinfelden renaturiert. Das Pr
 ojekt hat in der Schweiz\nPioniercharakter. Erstmals wurde einem kanalisie
 rten Bach nicht 'nur' eine\nnaturnahe Laufform zurückgegeben\, sondern au
 ch die Bachsohle auf einer Strecke\nvon fast einem Kilometer angehoben. Da
 durch konnte der Grundwasserspiegel\nansteigen und gewässertypische Ausuf
 erungen sowie auendynamische Prozesse sind\nwieder möglich." Genau genom
 men durfte\nich im Auftrag des kantonalen Wasserbaus die Projektleitung Ba
 uherr übernehmen.    
URL:https://rotary-laufenburg.ch/sv/agenda/show/187635
DTSTART;TZID=Europe/Zurich:20250109T120000
DTEND;TZID=Europe/Zurich:20250109T133000
LOCATION:Restaurant Post\, Bözen\, Hauptstrasse 49\, 5076 Bözen\, Schweiz
CATEGORIES:Rotary
END:VEVENT
BEGIN:VTIMEZONE
TZID:Europe/Zurich
BEGIN:STANDARD
DTSTART:20250109T120000
TZNAME:CET
TZOFFSETTO:+0100
TZOFFSETFROM:+0100
END:STANDARD
END:VTIMEZONE
END:VCALENDAR
