BEGIN:VCALENDAR
PRODID:-//eluceo/ical//2.0/EN
VERSION:2.0
CALSCALE:GREGORIAN
BEGIN:VEVENT
UID:90e6a61e374a0aac0990f147d62b5929
DTSTAMP:20260423T194548Z
SUMMARY:Simon Leuenberger\, Leiter Grünflächenunterhalt - Stadtgärtnerei
  Basel
DESCRIPTION:Webbplats: http://www.park-hotel.ch\nTalare: Die Stadtgärtnere
 i Basel ist seit 160 Jahren verantwortlich für das Basler Stadtgrün: Sie
  bewirtschaftet rund 240 Hektaren öffentliche Grün- und Freiflächen - d
 as entspricht knapp neun Prozent der Fläche der Stadt Basel. Über 50 Par
 ks und Grünanlagen\, 32 Freizeitgartenareale und mehrere Friedhofanlagen 
 bilden die grünen Lungen für das dicht besiedelte Stadtgebiet. Entlang d
 er Strassen und in den Parkanlagen setzen rund 27‘000 Bäume weitere gr
 üne Akzente und bilden ein einzigartiges Kulturerbe.Die Stadt Basel verf
 ügt über ein attraktives Freiraumangebot und überdurchschnittlich viele
  Erholungsmöglichkeiten. Davon zeugen beispielsweise die rund 60 Kindersp
 ielplätze\, die regelmässig erneuert werden\, sowie 5‘100 Freizeitgär
 ten\, die die Stadtgärtnerei verpachtet.  
URL:https://rotary-laufenburg.ch/sv/agenda/show/178596
DTSTART;TZID=Europe/Zurich:20240718T120000
DTEND;TZID=Europe/Zurich:20240718T133000
LOCATION:Park-Hotel am Rhein\, Rheinfelden\, Roberstenstrasse 31\, 4310 Rhe
 infelden\, Schweiz
CATEGORIES:Rotary
END:VEVENT
BEGIN:VTIMEZONE
TZID:Europe/Zurich
BEGIN:DAYLIGHT
DTSTART:20240718T120000
TZNAME:CEST
TZOFFSETTO:+0200
TZOFFSETFROM:+0200
END:DAYLIGHT
END:VTIMEZONE
END:VCALENDAR
