BEGIN:VCALENDAR
PRODID:-//eluceo/ical//2.0/EN
VERSION:2.0
CALSCALE:GREGORIAN
BEGIN:VEVENT
UID:f8320109ff0e178880655229942ad9df
DTSTAMP:20260423T230415Z
SUMMARY:Besuch des Governors Alex Schär
DESCRIPTION:Webbplats: https://www.post-boezen.ch\nTalare: Besuch des Gover
 nors Alex Schär.
URL:https://rotary-laufenburg.ch/sv/agenda/show/162370
DTSTART;TZID=Europe/Zurich:20230914T120000
DTEND;TZID=Europe/Zurich:20230914T133000
LOCATION:Restaurant Post\, Bözen\, Hauptstrasse 49\, 5076 Bözen\, Schweiz
CATEGORIES:Rotary
END:VEVENT
BEGIN:VTIMEZONE
TZID:Europe/Zurich
BEGIN:DAYLIGHT
DTSTART:20230914T120000
TZNAME:CEST
TZOFFSETTO:+0200
TZOFFSETFROM:+0200
END:DAYLIGHT
END:VTIMEZONE
END:VCALENDAR
