BEGIN:VCALENDAR
PRODID:-//eluceo/ical//2.0/EN
VERSION:2.0
CALSCALE:GREGORIAN
BEGIN:VEVENT
UID:758363db3e7fae7938a3efcd5198edcf
DTSTAMP:20260423T230012Z
SUMMARY:Präsenzfrühstück
DESCRIPTION:Webbplats: http://www.kunz-baeckerei.ch
URL:https://rotary-laufenburg.ch/sv/agenda/show/161036
DTSTART;TZID=Europe/Zurich:20230908T063000
DTEND;TZID=Europe/Zurich:20230908T063000
LOCATION:Bäckerei Kunz\, Stein/AG\, Brotkorbstrasse 1\, 4322 Stein / AG
CATEGORIES:Rotary
END:VEVENT
BEGIN:VTIMEZONE
TZID:Europe/Zurich
BEGIN:DAYLIGHT
DTSTART:20230908T063000
TZNAME:CEST
TZOFFSETTO:+0200
TZOFFSETFROM:+0200
END:DAYLIGHT
END:VTIMEZONE
END:VCALENDAR
