BEGIN:VCALENDAR
PRODID:-//eluceo/ical//2.0/EN
VERSION:2.0
CALSCALE:GREGORIAN
BEGIN:VEVENT
UID:d312bd573f4f94495d072ded5bb184b0
DTSTAMP:20260422T043651Z
SUMMARY:Underberg\, auf die Kräuter kommt es an
DESCRIPTION:Talare: Franz Ruder
URL:https://rotary-laufenburg.ch/sv/agenda/show/154664
DTSTART;TZID=Europe/Zurich:20230302T121500
DTEND;TZID=Europe/Zurich:20230302T133000
LOCATION:Restaurant Post\, Bözen\, Hauptstrasse 49\, 5076 Bözen\, Schweiz
CATEGORIES:Rotary
END:VEVENT
BEGIN:VTIMEZONE
TZID:Europe/Zurich
BEGIN:STANDARD
DTSTART:20230302T121500
TZNAME:CET
TZOFFSETTO:+0100
TZOFFSETFROM:+0100
END:STANDARD
END:VTIMEZONE
END:VCALENDAR
