BEGIN:VCALENDAR
PRODID:-//eluceo/ical//2.0/EN
VERSION:2.0
CALSCALE:GREGORIAN
BEGIN:VEVENT
UID:a8db40088000717af8ec18c121c4ff19
DTSTAMP:20260422T044242Z
SUMMARY:Plauderlunch
DESCRIPTION:Webbplats: http://www.park-hotel.ch\nTalare: 
URL:https://rotary-laufenburg.ch/sv/agenda/show/153328
DTSTART;TZID=Europe/Zurich:20230223T121500
DTEND;TZID=Europe/Zurich:20230223T133000
LOCATION:Park-Hotel am Rhein\, Rheinfelden\, Roberstenstrasse 31\, 4310 Rhe
 infelden
CATEGORIES:Rotary
END:VEVENT
BEGIN:VTIMEZONE
TZID:Europe/Zurich
BEGIN:STANDARD
DTSTART:20230223T121500
TZNAME:CET
TZOFFSETTO:+0100
TZOFFSETFROM:+0100
END:STANDARD
END:VTIMEZONE
END:VCALENDAR
