BEGIN:VCALENDAR
PRODID:-//eluceo/ical//2.0/EN
VERSION:2.0
CALSCALE:GREGORIAN
BEGIN:VEVENT
UID:0e963e8903c4d35aca48039c5c298295
DTSTAMP:20260422T004250Z
SUMMARY:Partneranlass: Schlussanlass/Amtsübergabe
DESCRIPTION:Website: https://www.google.com/maps/@47.5135998\,8.0181119\,17
 .4z?entry=ttu&g_ep=EgoyMDI2MDEyOC4wIKXMDSoASAFQAw%3D%3D\nSprekers: Der Par
 tneranlass bildet den feierlichen Abschluss unseres Rotary-Jahres. Gemeins
 am mit unseren Partnerinnen und Partnern lassen wir das Jahr Revue passier
 en und begehen die Amtsübergabe in geselliger Atmosphäre. Wir freuen uns
  auf einen besonderen Abend mit guten Gesprächen und gemeinsamer Zeit. 
  Noch eine Information zu den Parkplätzen: Möglichkeiten gibt es entlan
 g der unteren Grubenstrasse  
URL:https://rotary-laufenburg.ch/nl/agenda/show/209506
DTSTART;TZID=Europe/Zurich:20260625T183000
DTEND;TZID=Europe/Zurich:20260625T220000
LOCATION:Untere Grubenstrasse 22\, 5070 Frick
CATEGORIES:Rotary
END:VEVENT
BEGIN:VTIMEZONE
TZID:Europe/Zurich
BEGIN:DAYLIGHT
DTSTART:20260625T183000
TZNAME:CEST
TZOFFSETTO:+0200
TZOFFSETFROM:+0200
END:DAYLIGHT
END:VTIMEZONE
END:VCALENDAR
