BEGIN:VCALENDAR
PRODID:-//eluceo/ical//2.0/EN
VERSION:2.0
CALSCALE:GREGORIAN
BEGIN:VEVENT
UID:47bee08f687c44c8896d539c85f69fd5
DTSTAMP:20260424T155250Z
SUMMARY:Roboter für autonome Inspektionen in der Industrie
DESCRIPTION:Website: http://www.park-hotel.ch\nSprekers: Patrik d'Allens un
 d Harald Probst DSM-Firmenich
URL:https://rotary-laufenburg.ch/nl/agenda/show/208255
DTSTART;TZID=Europe/Zurich:20260115T120000
DTEND;TZID=Europe/Zurich:20260115T133000
LOCATION:Park-Hotel am Rhein\, Rheinfelden\, Roberstenstrasse 31\, 4310 Rhe
 infelden\, Schweiz
CATEGORIES:Rotary
END:VEVENT
BEGIN:VTIMEZONE
TZID:Europe/Zurich
BEGIN:STANDARD
DTSTART:20260115T120000
TZNAME:CET
TZOFFSETTO:+0100
TZOFFSETFROM:+0100
END:STANDARD
END:VTIMEZONE
END:VCALENDAR
