BEGIN:VCALENDAR
PRODID:-//eluceo/ical//2.0/EN
VERSION:2.0
CALSCALE:GREGORIAN
BEGIN:VEVENT
UID:85acec4f6c56a9481b79c42f5aeb6573
DTSTAMP:20260422T043621Z
SUMMARY:Präsenzfrühstück
DESCRIPTION:Website: https://beck-maier.ch\nSprekers: Präsenzfrühstück 
 – neu in der Bäckerei Maier\, Möhlin\nWir laden herzlich zum Rotary-Pr
 äsenzfrühstück ein. Wir treffen uns in der Bäckerei Maier in Möhlin\,
  wo uns ein gemütliches Ambiente und feine Backwaren erwarten. Eine wunde
 rbare Gelegenheit für Austausch\, Vernetzung und einen inspirierten Start
  in den Tag!  
URL:https://rotary-laufenburg.ch/nl/agenda/show/207321
DTSTART;TZID=Europe/Zurich:20260612T063000
DTEND;TZID=Europe/Zurich:20260612T073000
LOCATION:Beck Maier\, Hauptstrasse 77\, 4313 Möhlin\, Schweiz
CATEGORIES:Rotary
END:VEVENT
BEGIN:VTIMEZONE
TZID:Europe/Zurich
BEGIN:DAYLIGHT
DTSTART:20260612T063000
TZNAME:CEST
TZOFFSETTO:+0200
TZOFFSETFROM:+0200
END:DAYLIGHT
END:VTIMEZONE
END:VCALENDAR
