BEGIN:VCALENDAR
PRODID:-//eluceo/ical//2.0/EN
VERSION:2.0
CALSCALE:GREGORIAN
BEGIN:VEVENT
UID:3a95ebcf9606f98ee92c408e1b8483f7
DTSTAMP:20260424T132710Z
SUMMARY:Feierabendbier
DESCRIPTION:Website: https://brauwelt.ch/restaurant\nSprekers: 
URL:https://rotary-laufenburg.ch/nl/agenda/show/206640
DTSTART;TZID=Europe/Zurich:20260609T180000
DTEND;TZID=Europe/Zurich:20260609T193000
LOCATION:Restaurant Feldschlösschen\, Feldschlösschenstrasse 32\, 4310 Rh
 einfelden
CATEGORIES:Rotary
END:VEVENT
BEGIN:VTIMEZONE
TZID:Europe/Zurich
BEGIN:DAYLIGHT
DTSTART:20260609T180000
TZNAME:CEST
TZOFFSETTO:+0200
TZOFFSETFROM:+0200
END:DAYLIGHT
END:VTIMEZONE
END:VCALENDAR
