BEGIN:VCALENDAR
PRODID:-//eluceo/ical//2.0/EN
VERSION:2.0
CALSCALE:GREGORIAN
BEGIN:VEVENT
UID:f8f563eb2e484549117235f7a3bc720a
DTSTAMP:20260421T230102Z
SUMMARY:Vereinsreise ins Wallis
DESCRIPTION:Sprekers: Clubreise ins Wallis\n20.–21. Juni 2026Der Rotary C
 lub Laufenburg-Fricktal reist im Juni 2026 für zwei abwechslungsreiche Ta
 ge ins Wallis.Am Samstag\, 20. Juni 2026\, geht es am Morgen via Bern und 
 Fribourg Richtung Sion. Dort erwartet die Teilnehmenden bei Provins ein Ap
 éro riche mit Weindegustation und Präsentation. Anschliessend steht ein 
 geführter Stadtrundgang durch Sion auf dem Programm\, bevor der Tag bei A
 péro und Nachtessen im Castel d’Uvrier gemütlich ausklingt. Die Übern
 achtung erfolgt in Martigny. \n\n\nAm Sonntag\, 21. Juni 2026\, führt die
  Reise zunächst nach Bex\, wo eine spannende Besichtigung des bekannten S
 alzbergwerks wartet. Danach geht es weiter nach Blonay und mit der Bahn hi
 nauf nach Les Pléiades\, wo eine herrliche Aussicht auf den Genfersee und
  die Savoyer Alpen sowie ein feines Mittagessen geniessen werden können. 
 Anschliessend erfolgt die Rückreise ins Fricktal. 
URL:https://rotary-laufenburg.ch/nl/agenda/show/204241
DTSTART;TZID=Europe/Zurich:20260620T070000
DTEND;TZID=Europe/Zurich:20260621T200000
LOCATION:Sion und Umgebung mit Besuch Provins
CATEGORIES:Rotary
END:VEVENT
BEGIN:VTIMEZONE
TZID:Europe/Zurich
BEGIN:DAYLIGHT
DTSTART:20260620T070000
TZNAME:CEST
TZOFFSETTO:+0200
TZOFFSETFROM:+0200
END:DAYLIGHT
END:VTIMEZONE
END:VCALENDAR
