BEGIN:VCALENDAR
PRODID:-//eluceo/ical//2.0/EN
VERSION:2.0
CALSCALE:GREGORIAN
BEGIN:VEVENT
UID:fc125109deedf17af974aefded9d7e50
DTSTAMP:20260419T154128Z
SUMMARY:Neuaufnahmen: Lucas Müller und Philipp Uhlmann
DESCRIPTION:Website: https://www.post-boezen.ch/\nSprekers: Neuaufnahmen vo
 nPhilipp Uhlmann aus Möhlin\; Götti Oscar EliasundLucas Müller aus Möh
 lin\; Götti Tobias Mathis
URL:https://rotary-laufenburg.ch/nl/agenda/show/199530
DTSTART;TZID=Europe/Zurich:20250911T120000
DTEND;TZID=Europe/Zurich:20250911T133000
LOCATION:Restaurant Post\, Bözen\, Hauptstrasse 49\, 5076 Bözen\, Schweiz
CATEGORIES:Rotary
END:VEVENT
BEGIN:VTIMEZONE
TZID:Europe/Zurich
BEGIN:DAYLIGHT
DTSTART:20250911T120000
TZNAME:CEST
TZOFFSETTO:+0200
TZOFFSETFROM:+0200
END:DAYLIGHT
END:VTIMEZONE
END:VCALENDAR
