BEGIN:VCALENDAR
PRODID:-//eluceo/ical//2.0/EN
VERSION:2.0
CALSCALE:GREGORIAN
BEGIN:VEVENT
UID:1abdecfcb2159a869fd3f6965862cfc6
DTSTAMP:20260424T173609Z
SUMMARY:Architekt Rolf Stalder – Hotellerie gestern\, heute und morgen: E
 ine Lieblingsdisziplin
DESCRIPTION:Website: http://www.park-hotel.ch\nSprekers: Rolf Stalder\, geb
 oren 1966 in Basel\, brach das Gymnasium ein Jahr vor der Matura ab\, um s
 einen eigenen Weg zu gehen. Nach einer Lehre als Hochbauzeichner gründete
  er mit 22 Jahren sein erstes Architekturbüro – ohne Kapital und Netzwe
 rk\, aber mit Entschlossenheit. Noch nicht einmal 28-jährig beschäftigte
  er bereits eine Vielzahl von Mitarbeitenden. Schnell wurde er zu einem de
 r erfolgreichsten und bekanntesten Architekten der Region Basel. Als Archi
 tekt und Investor realisierte er Hunderte Projekte\, darunter den Stolltur
 m und das größte Hotel Basels. Heute baut er Hotels in der ganzen Schwei
 z. Seine immense Arbeitsbelastung und sein kompromissloser Einsatz führte
 n zu wirtschaftlichem Erfolg\, forderten jedoch auch persönliche Opfer. J
 ahrelang stellte er seine Karriere über alles\, auch wenn es nicht einfac
 h war.Trotz Herausforderungen hielt er an seiner Vision fest\, zeigte Resi
 lienz und Mut. Gleichzeitig überzeugte er als Arbeitgeber von über 200 M
 itarbeitenden – besonders in der Pionier- und Aufbauphase – durch sein
  Verständnis von Geschäftsleitung und Führungspersonen – dass man Bil
 dung niemals mit Intelligenz verwechseln dürfe. Nicht selten hörte man i
 hn betonen: Nach 13 Jahren kann man einen Master-Abschluss machen\, ist tr
 otzdem ein „Idiot“ sein. Ein erfolgreich zu sein\, zählen Menschlichk
 eit\, Intuition und Team. Nach Jahren intensiver Arbeit übergab er 2021 m
 it 55 Jahren sein Unternehmen\, setzte sich verstärkt mit gesellschaftlic
 hen Visionen\, sozialen Projekten und Kunstschaffenden auseinander und eng
 agierte sich für eine offenere Gesellschaft\, die auch Scheitern als Teil
  des Erfolgs anerkennt.Heute arbeitet Rolf Stalder als unabhängiger Visio
 när und Unternehmer. Architektur bedeutet für ihn nach wie vor Engagemen
 t – stets auf der Suche nach neuen Herausforderungen und Ausdrucksformen
 . Bildung und Wachstum sind für ihn mehr als nur wirtschaftliche Erfolge 
 bedeutend. Denn erst im Rückblick merkt man\, dass wahre Erfüllung nicht
  im Erreichten liegt\, sondern in den Spuren\, die man hinterlässt. Rolf 
 Stalder ist ein Mensch\, der gelernt hat\, wie wichtig der Blick zurück i
 st – aber erst der Weg vor uns zeigt\, was möglich ist\, wenn man mutig
  genug ist\, das eigene Leben selbst zu gestalten.In den letzten Jahren wi
 dmete er sich sozialen Projekten – für ihn bedeutet Architektur nicht n
 ur Gebäude\, sondern ein Mittel positiven Wandels. Und das bedeutet für 
 ihn nicht nur ein besseres Bauen\, sondern das\, was man gemeinhin vergiss
 t: an Chancen\, an Hoffnung und an Menschlichkeit.\n\n\n\n(Quelle: Monogra
 phie "Biographie Rolf Stalder"\; www.rolfstalder.ch)
URL:https://rotary-laufenburg.ch/nl/agenda/show/199083
DTSTART;TZID=Europe/Zurich:20250717T120000
DTEND;TZID=Europe/Zurich:20250717T133000
LOCATION:Park-Hotel am Rhein\, Rheinfelden\, Roberstenstrasse 31\, 4310 Rhe
 infelden\, Schweiz
CATEGORIES:Rotary
END:VEVENT
BEGIN:VTIMEZONE
TZID:Europe/Zurich
BEGIN:DAYLIGHT
DTSTART:20250717T120000
TZNAME:CEST
TZOFFSETTO:+0200
TZOFFSETFROM:+0200
END:DAYLIGHT
END:VTIMEZONE
END:VCALENDAR
