BEGIN:VCALENDAR
PRODID:-//eluceo/ical//2.0/EN
VERSION:2.0
CALSCALE:GREGORIAN
BEGIN:VEVENT
UID:dc354c8a9ff90b6f5761252c9483e664
DTSTAMP:20260421T181210Z
SUMMARY:Feierabendbier mit RC Rheinfelden
DESCRIPTION:Website: https://brauwelt.ch/de/restaurant/
URL:https://rotary-laufenburg.ch/nl/agenda/show/169995
DTSTART;TZID=Europe/Zurich:20240109T173000
DTEND;TZID=Europe/Zurich:20240109T190000
LOCATION:Restaurant Feldschlösschen
CATEGORIES:Rotary
END:VEVENT
BEGIN:VTIMEZONE
TZID:Europe/Zurich
BEGIN:STANDARD
DTSTART:20240109T173000
TZNAME:CET
TZOFFSETTO:+0100
TZOFFSETFROM:+0100
END:STANDARD
END:VTIMEZONE
END:VCALENDAR
