BEGIN:VCALENDAR
PRODID:-//eluceo/ical//2.0/EN
VERSION:2.0
CALSCALE:GREGORIAN
BEGIN:VEVENT
UID:38009a3fd18c156dfe341240b2d10464
DTSTAMP:20260421T094538Z
SUMMARY:Feierabendbier mit dem RC Rheinfelden - Fricktal
DESCRIPTION:Vefsíða: https://brauwelt.ch/restaurant\nFyrirlesari(ar): Wir
  laden zum Feierabendbier ein! 
URL:https://rotary-laufenburg.ch/is/agenda/show/197256
DTSTART;TZID=Europe/Zurich:20251111T180000
DTEND;TZID=Europe/Zurich:20251111T193000
LOCATION:Restaurant Feldschlösschen\, Feldschlösschenstrasse 32\, 4310 Rh
 einfelden
CATEGORIES:Rotary
END:VEVENT
BEGIN:VTIMEZONE
TZID:Europe/Zurich
BEGIN:STANDARD
DTSTART:20251111T180000
TZNAME:CET
TZOFFSETTO:+0100
TZOFFSETFROM:+0100
END:STANDARD
END:VTIMEZONE
END:VCALENDAR
