BEGIN:VCALENDAR
PRODID:-//eluceo/ical//2.0/EN
VERSION:2.0
CALSCALE:GREGORIAN
BEGIN:VEVENT
UID:7b280f1c18df3df1086a8a631304d394
DTSTAMP:20260423T104514Z
SUMMARY:Feierabendbier mit dem RC Rheinfelden - Fricktal
DESCRIPTION:Vefsíða: https://brauwelt.ch/restaurant\nFyrirlesari(ar): Wir
  laden zum Feierabendbier ein! 
URL:https://rotary-laufenburg.ch/is/agenda/show/197251
DTSTART;TZID=Europe/Zurich:20250909T180000
DTEND;TZID=Europe/Zurich:20250909T193000
LOCATION:Restaurant Feldschlösschen\, Feldschlösschenstrasse 32\, 4310 Rh
 einfelden
CATEGORIES:Rotary
END:VEVENT
BEGIN:VTIMEZONE
TZID:Europe/Zurich
BEGIN:DAYLIGHT
DTSTART:20250909T180000
TZNAME:CEST
TZOFFSETTO:+0200
TZOFFSETFROM:+0200
END:DAYLIGHT
END:VTIMEZONE
END:VCALENDAR
