BEGIN:VCALENDAR
PRODID:-//eluceo/ical//2.0/EN
VERSION:2.0
CALSCALE:GREGORIAN
BEGIN:VEVENT
UID:10a1e82f0f6cdb28b095f009f1e713ae
DTSTAMP:20260423T085805Z
SUMMARY:Besuch beim Götticlub RC Rheinfelden - Fricktal
DESCRIPTION:Vefsíða: http://www.park-hotel.ch\nFyrirlesari(ar): Wir besuc
 hen am Dienstag unseren Götticlub den RC Rheinfelden-Fricktal. Wir hoffen
  auf eine grosse Teilnehmerzahl.
URL:https://rotary-laufenburg.ch/is/agenda/show/178630
DTSTART;TZID=Europe/Zurich:20241008T120000
DTEND;TZID=Europe/Zurich:20241008T133000
LOCATION:Park-Hotel am Rhein\, Rheinfelden\, Roberstenstrasse 31\, 4310 Rhe
 infelden\, Schweiz
CATEGORIES:Rotary
END:VEVENT
BEGIN:VTIMEZONE
TZID:Europe/Zurich
BEGIN:DAYLIGHT
DTSTART:20241008T120000
TZNAME:CEST
TZOFFSETTO:+0200
TZOFFSETFROM:+0200
END:DAYLIGHT
END:VTIMEZONE
END:VCALENDAR
