BEGIN:VCALENDAR
PRODID:-//eluceo/ical//2.0/EN
VERSION:2.0
CALSCALE:GREGORIAN
BEGIN:VEVENT
UID:bb4ee30857268e84d9990eaef8c1f396
DTSTAMP:20260423T085730Z
SUMMARY:Fricktaler Bühne - Jeanne-Pasquale Künzli\, OK-Präsidentin / Int
 endantin
DESCRIPTION:Vefsíða: http://www.park-hotel.ch\nFyrirlesari(ar): Gräfin M
 arizaMusik: Emmerich KálmánGesangstexte: Julius Brammer\, Alfred Grünwa
 ldReduzierte Orchesterfassung: Ingmar SonnenmoserDie wohlhabende Gräfin M
 ariza\, lebensfroh und von zahlreichen Verehrern umschwärmt\, verbringt e
 inige Tage in der Stadt\, währenddessen sie ihr Gut ihrem tüchtigen Verw
 alter Bela Törek überlässt. Dass sich hinter Törek jedoch in Tat und W
 ahrheit der verarmte Graf Tassilo verbirgt\, ahnt niemand.
URL:https://rotary-laufenburg.ch/is/agenda/show/178629
DTSTART;TZID=Europe/Zurich:20240822T120000
DTEND;TZID=Europe/Zurich:20240822T133000
LOCATION:Park-Hotel am Rhein\, Rheinfelden\, Roberstenstrasse 31\, 4310 Rhe
 infelden\, Schweiz
CATEGORIES:Rotary
END:VEVENT
BEGIN:VTIMEZONE
TZID:Europe/Zurich
BEGIN:DAYLIGHT
DTSTART:20240822T120000
TZNAME:CEST
TZOFFSETTO:+0200
TZOFFSETFROM:+0200
END:DAYLIGHT
END:VTIMEZONE
END:VCALENDAR
