BEGIN:VCALENDAR
PRODID:-//eluceo/ical//2.0/EN
VERSION:2.0
CALSCALE:GREGORIAN
BEGIN:VEVENT
UID:400c408d847a527e77ba61da791406e6
DTSTAMP:20260421T095746Z
SUMMARY:David Schreiber - Aarg. kantonaler Schwingverband
DESCRIPTION:Vefsíða: http://www.park-hotel.ch\nFyrirlesari(ar): David Sch
 reiber - Unternehmer und Schwing-SportDavid Schreiber liebt die Natur und 
 das Holz\, egal ob bei der Arbeit oder im Sport. In der Freizeit trifft ma
 n David während der Saison auf dem Schwingplatz an. Er liebt diesen Sport
  und engagiert sich auch sehr stark in diversen Funktionen. Wir lassen uns
  überraschen was uns David zu unserem Motto "Grün" berichtet.
URL:https://rotary-laufenburg.ch/is/agenda/show/178597
DTSTART;TZID=Europe/Zurich:20240808T120000
DTEND;TZID=Europe/Zurich:20240808T133000
LOCATION:Park-Hotel am Rhein\, Rheinfelden\, Roberstenstrasse 31\, 4310 Rhe
 infelden\, Schweiz
CATEGORIES:Rotary
END:VEVENT
BEGIN:VTIMEZONE
TZID:Europe/Zurich
BEGIN:DAYLIGHT
DTSTART:20240808T120000
TZNAME:CEST
TZOFFSETTO:+0200
TZOFFSETFROM:+0200
END:DAYLIGHT
END:VTIMEZONE
END:VCALENDAR
