BEGIN:VCALENDAR
PRODID:-//eluceo/ical//2.0/EN
VERSION:2.0
CALSCALE:GREGORIAN
BEGIN:VEVENT
UID:694e4adab8cc870377812eb8406855b1
DTSTAMP:20260419T191625Z
SUMMARY:Inbound Bianca Duarte Villasanti berichtet über ihr Jahr in der Sc
 hweiz
DESCRIPTION:Site internet: https://www.post-boezen.ch/\nConférencier(s): B
 ianca wird uns aus ihrer Sicht vermitteln\, wie sie den Jugendaustausch er
 lebt hat\, wie es ihr in den Familien ergangen ist und was sie mit in ihre
  Heimat nimmt.
URL:https://rotary-laufenburg.ch/fr/agenda/show/208422
DTSTART;TZID=Europe/Zurich:20260507T120000
DTEND;TZID=Europe/Zurich:20260507T133000
LOCATION:Restaurant Post\, Bözen\, Hauptstrasse 49\, 5076 Bözen\, Schweiz
CATEGORIES:Rotary
END:VEVENT
BEGIN:VTIMEZONE
TZID:Europe/Zurich
BEGIN:DAYLIGHT
DTSTART:20260507T120000
TZNAME:CEST
TZOFFSETTO:+0200
TZOFFSETFROM:+0200
END:DAYLIGHT
END:VTIMEZONE
END:VCALENDAR
