BEGIN:VCALENDAR
PRODID:-//eluceo/ical//2.0/EN
VERSION:2.0
CALSCALE:GREGORIAN
BEGIN:VEVENT
UID:37cc1a02941b4b61cb8bf45af3d2f9f9
DTSTAMP:20260421T101606Z
SUMMARY:Familienanlass: Sparlunch im Vogelpark Ambigua in Zeihen
DESCRIPTION:Site internet: https://www.vogelpark-ambigua.ch\nConférencier(
 s): Sparlunch mit Parkführung\nDonnerstag\, 21. Mai 2026\nProgramm:\n\n\n
 11:45 Uhr: Eintreffen und kleiner Apéro\n\n\n12:15 Uhr: Begrüssung und I
 nformationen durch den Präsidenten\n\n\nca. 12:25 Uhr: Gemeinsames Mittag
 essen\n\n\nca. 13:30 Uhr: Führung durch den Park\n\n\nPartner:innen und K
 inder sind herzlich willkommen.\nWir freuen uns auf eine rege Teilnahme un
 d einen inspirierenden Austausch in besonderer Umgebung.
URL:https://rotary-laufenburg.ch/fr/agenda/show/207952
DTSTART;TZID=Europe/Zurich:20260521T120000
DTEND;TZID=Europe/Zurich:20260521T133000
LOCATION:Vogelpark Ambigua GmbH\, Chängelmatt 1\, 5079 Zeihen
CATEGORIES:Rotary
END:VEVENT
BEGIN:VTIMEZONE
TZID:Europe/Zurich
BEGIN:DAYLIGHT
DTSTART:20260521T120000
TZNAME:CEST
TZOFFSETTO:+0200
TZOFFSETFROM:+0200
END:DAYLIGHT
END:VTIMEZONE
END:VCALENDAR
