BEGIN:VCALENDAR
PRODID:-//eluceo/ical//2.0/EN
VERSION:2.0
CALSCALE:GREGORIAN
BEGIN:VEVENT
UID:cfe89edcae411b398398a0652d91fc58
DTSTAMP:20260424T104603Z
SUMMARY:IKEA Pratteln - Partneranlass - Durch die Welt der IKEA
DESCRIPTION:Site internet: https://www.ikea.com/ch/de/stores/pratteln/\nCon
 férencier(s): Katharina Schenker und Fabian Mathis führen uns durch die\
 nWelt der IKEA. Sie geben einen Einblick in die Geschichte\, aktuelle Situ
 ation\nund Zukunft der IKEA in der Schweiz und global: Welche Chancen und 
 Hürden sieht\nein Weltkonzern mit globaler Lieferkette beim Thema ‘grü
 n’? Wir freuen uns auf\neinen interessanten Besuch in Pratteln.
URL:https://rotary-laufenburg.ch/fr/agenda/show/187981
DTSTART;TZID=Europe/Zurich:20250123T110000
DTEND;TZID=Europe/Zurich:20250123T133000
LOCATION:IKEA\, Grüssenweg 21\, 4133 Pratteln
CATEGORIES:Rotary
END:VEVENT
BEGIN:VTIMEZONE
TZID:Europe/Zurich
BEGIN:STANDARD
DTSTART:20250123T110000
TZNAME:CET
TZOFFSETTO:+0100
TZOFFSETFROM:+0100
END:STANDARD
END:VTIMEZONE
END:VCALENDAR
