BEGIN:VCALENDAR
PRODID:-//eluceo/ical//2.0/EN
VERSION:2.0
CALSCALE:GREGORIAN
BEGIN:VEVENT
UID:8e21245f42f8832dcaca163bd2f74f2e
DTSTAMP:20260424T095124Z
SUMMARY:Get-Together Anlass 2025
DESCRIPTION:Site internet: http://www.stiftung-mbf.ch\nConférencier(s): De
 r Inner Wheel Club Basel-Riehen organisiert die Veranstaltung.
URL:https://rotary-laufenburg.ch/fr/agenda/show/185378
DTSTART;TZID=Europe/Zurich:20250122T181500
DTEND;TZID=Europe/Zurich:20250122T220000
LOCATION:MBF\, Münchwilerstrasse 61\, 4332 Stein
CATEGORIES:Rotary
END:VEVENT
BEGIN:VTIMEZONE
TZID:Europe/Zurich
BEGIN:STANDARD
DTSTART:20250122T181500
TZNAME:CET
TZOFFSETTO:+0100
TZOFFSETFROM:+0100
END:STANDARD
END:VTIMEZONE
END:VCALENDAR
