BEGIN:VCALENDAR
PRODID:-//eluceo/ical//2.0/EN
VERSION:2.0
CALSCALE:GREGORIAN
BEGIN:VEVENT
UID:2d41b7f156bc294a078f6e51a1ec5b07
DTSTAMP:20260424T094702Z
SUMMARY:Präsenzfrühstück
DESCRIPTION:Site internet: http://www.kunz-baeckerei.ch\nConférencier(s): 
 Gerne laden wir dich zum feinen Präsenzfrühstück ein!
URL:https://rotary-laufenburg.ch/fr/agenda/show/183118
DTSTART;TZID=Europe/Zurich:20250110T063000
DTEND;TZID=Europe/Zurich:20250110T073000
LOCATION:Bäckerei Kunz\, Stein/AG\, Brotkorbstrasse 1\, 4322 Stein\, Schwe
 iz
CATEGORIES:Rotary
END:VEVENT
BEGIN:VTIMEZONE
TZID:Europe/Zurich
BEGIN:STANDARD
DTSTART:20250110T063000
TZNAME:CET
TZOFFSETTO:+0100
TZOFFSETFROM:+0100
END:STANDARD
END:VTIMEZONE
END:VCALENDAR
