BEGIN:VCALENDAR
PRODID:-//eluceo/ical//2.0/EN
VERSION:2.0
CALSCALE:GREGORIAN
BEGIN:VEVENT
UID:3da73c45d14aaec3368087395545685d
DTSTAMP:20260420T110111Z
SUMMARY:Plauderlunch
DESCRIPTION:Site internet: http://www.park-hotel.ch\nConférencier(s): 
URL:https://rotary-laufenburg.ch/fr/agenda/show/154667
DTSTART;TZID=Europe/Zurich:20230316T121500
DTEND;TZID=Europe/Zurich:20230316T133000
LOCATION:Park-Hotel am Rhein\, Rheinfelden\, Roberstenstrasse 31\, 4310 Rhe
 infelden
CATEGORIES:Rotary
END:VEVENT
BEGIN:VTIMEZONE
TZID:Europe/Zurich
BEGIN:STANDARD
DTSTART:20230316T121500
TZNAME:CET
TZOFFSETTO:+0100
TZOFFSETFROM:+0100
END:STANDARD
END:VTIMEZONE
END:VCALENDAR
