BEGIN:VCALENDAR
PRODID:-//eluceo/ical//2.0/EN
VERSION:2.0
CALSCALE:GREGORIAN
BEGIN:VEVENT
UID:59786bdddcafe8e1a55e7da689e7116e
DTSTAMP:20260420T124315Z
SUMMARY:Führung und Mittagessen im FiBL in Frick
DESCRIPTION:Site internet: https://www.fibl.org/de/standorte/schweiz\nConf
 érencier(s): Jeremias Lütold
URL:https://rotary-laufenburg.ch/fr/agenda/show/154661
DTSTART;TZID=Europe/Zurich:20230209T105000
DTEND;TZID=Europe/Zurich:20230209T133000
LOCATION:FiBL in Frick
CATEGORIES:Rotary
END:VEVENT
BEGIN:VTIMEZONE
TZID:Europe/Zurich
BEGIN:STANDARD
DTSTART:20230209T105000
TZNAME:CET
TZOFFSETTO:+0100
TZOFFSETFROM:+0100
END:STANDARD
END:VTIMEZONE
END:VCALENDAR
