BEGIN:VCALENDAR
PRODID:-//eluceo/ical//2.0/EN
VERSION:2.0
CALSCALE:GREGORIAN
BEGIN:VEVENT
UID:49a1465f18b9edc8dbc6cc6c0426c9fa
DTSTAMP:20260420T124924Z
SUMMARY:Familienanlass Schneesporttag in den Flumserbergen
DESCRIPTION:
URL:https://rotary-laufenburg.ch/fr/agenda/show/153623
DTSTART;TZID=Europe/Zurich:20230211T070000
DTEND;TZID=Europe/Zurich:20230211T190000
LOCATION:Flumserberg
CATEGORIES:Rotary
END:VEVENT
BEGIN:VTIMEZONE
TZID:Europe/Zurich
BEGIN:STANDARD
DTSTART:20230211T070000
TZNAME:CET
TZOFFSETTO:+0100
TZOFFSETFROM:+0100
END:STANDARD
END:VTIMEZONE
END:VCALENDAR
