BEGIN:VCALENDAR
PRODID:-//eluceo/ical//2.0/EN
VERSION:2.0
CALSCALE:GREGORIAN
BEGIN:VEVENT
UID:801650ee9624504782d1dedf1990a026
DTSTAMP:20260420T142224Z
SUMMARY:Governor Besuch
DESCRIPTION:Site internet: http://www.park-hotel.ch\nConférencier(s): Chri
 stine Davatz
URL:https://rotary-laufenburg.ch/fr/agenda/show/153330
DTSTART;TZID=Europe/Zurich:20230202T121500
DTEND;TZID=Europe/Zurich:20230202T133000
LOCATION:Park-Hotel am Rhein\, Rheinfelden\, Roberstenstrasse 31\, 4310 Rhe
 infelden
CATEGORIES:Rotary
END:VEVENT
BEGIN:VTIMEZONE
TZID:Europe/Zurich
BEGIN:STANDARD
DTSTART:20230202T121500
TZNAME:CET
TZOFFSETTO:+0100
TZOFFSETFROM:+0100
END:STANDARD
END:VTIMEZONE
END:VCALENDAR
