BEGIN:VCALENDAR
PRODID:-//eluceo/ical//2.0/EN
VERSION:2.0
CALSCALE:GREGORIAN
BEGIN:VEVENT
UID:b0ee88696b7732634b6220b4c94de780
DTSTAMP:20260420T125230Z
SUMMARY:Präsenzfrühstück
DESCRIPTION:Site internet: http://www.kunz-baeckerei.ch
URL:https://rotary-laufenburg.ch/fr/agenda/show/153326
DTSTART;TZID=Europe/Zurich:20230113T063000
DTEND;TZID=Europe/Zurich:20230113T073000
LOCATION:Bäckerei Kunz\, Stein/AG\, Brotkorbstrasse 1\, 4322 Stein / AG
CATEGORIES:Rotary
END:VEVENT
BEGIN:VTIMEZONE
TZID:Europe/Zurich
BEGIN:STANDARD
DTSTART:20230113T063000
TZNAME:CET
TZOFFSETTO:+0100
TZOFFSETFROM:+0100
END:STANDARD
END:VTIMEZONE
END:VCALENDAR
