BEGIN:VCALENDAR
PRODID:-//eluceo/ical//2.0/EN
VERSION:2.0
CALSCALE:GREGORIAN
BEGIN:VEVENT
UID:8960e62f5c6a93deb03166ac3ce87db3
DTSTAMP:20260420T125914Z
SUMMARY:IRON ART Besuch in Effingen
DESCRIPTION:Conférencier(s): Daniel Schwarz
URL:https://rotary-laufenburg.ch/fr/agenda/show/153324
DTSTART;TZID=Europe/Zurich:20230112T110000
DTEND;TZID=Europe/Zurich:20230112T133000
LOCATION:IRON ART\, Trottenacher 238\, Effingen / Restaurant Post\, Bözen\
 , Hauptstrasse 49\, 5076 Bözen
CATEGORIES:Rotary
END:VEVENT
BEGIN:VTIMEZONE
TZID:Europe/Zurich
BEGIN:STANDARD
DTSTART:20230112T110000
TZNAME:CET
TZOFFSETTO:+0100
TZOFFSETFROM:+0100
END:STANDARD
END:VTIMEZONE
END:VCALENDAR
