BEGIN:VCALENDAR
PRODID:-//eluceo/ical//2.0/EN
VERSION:2.0
CALSCALE:GREGORIAN
BEGIN:VEVENT
UID:2d6e7eea0220c464e4e31775e3ca19cc
DTSTAMP:20260419T172907Z
SUMMARY:2. Mitgliederversammlung
DESCRIPTION:Sitio web: https://www.post-boezen.ch/\nOrador(es): Der Präsid
 ent Lukas Herzog lädt alle zur 2. Mitgliederversammlung ein.
URL:https://rotary-laufenburg.ch/es/agenda/show/188423
DTSTART;TZID=Europe/Zurich:20250612T120000
DTEND;TZID=Europe/Zurich:20250612T133000
LOCATION:Restaurant Post\, Bözen\, Hauptstrasse 49\, 5076 Bözen\, Schweiz
CATEGORIES:Rotary
END:VEVENT
BEGIN:VTIMEZONE
TZID:Europe/Zurich
BEGIN:DAYLIGHT
DTSTART:20250612T120000
TZNAME:CEST
TZOFFSETTO:+0200
TZOFFSETFROM:+0200
END:DAYLIGHT
END:VTIMEZONE
END:VCALENDAR
