BEGIN:VCALENDAR
PRODID:-//eluceo/ical//2.0/EN
VERSION:2.0
CALSCALE:GREGORIAN
BEGIN:VEVENT
UID:079ea0c679ca82516658b0c5685905b1
DTSTAMP:20260422T113634Z
SUMMARY:Plauderlunch - Gründonnerstag
DESCRIPTION:Sitio web: http://www.park-hotel.ch
URL:https://rotary-laufenburg.ch/es/agenda/show/188401
DTSTART;TZID=Europe/Zurich:20250417T120000
DTEND;TZID=Europe/Zurich:20250417T133000
LOCATION:Park-Hotel am Rhein\, Rheinfelden\, Roberstenstrasse 31\, 4310 Rhe
 infelden\, Schweiz
CATEGORIES:Rotary
END:VEVENT
BEGIN:VTIMEZONE
TZID:Europe/Zurich
BEGIN:DAYLIGHT
DTSTART:20250417T120000
TZNAME:CEST
TZOFFSETTO:+0200
TZOFFSETFROM:+0200
END:DAYLIGHT
END:VTIMEZONE
END:VCALENDAR
