BEGIN:VCALENDAR
PRODID:-//eluceo/ical//2.0/EN
VERSION:2.0
CALSCALE:GREGORIAN
BEGIN:VEVENT
UID:8681490a89a29fb3b15fc90ae00700f1
DTSTAMP:20260422T113202Z
SUMMARY:Wildschmaus-Abendessen - Ochsen\, Wölflinswil / Aufnahme Serap Hä
 nggi
DESCRIPTION:Sitio web: http://www.ochsen-woelflinswil.ch
URL:https://rotary-laufenburg.ch/es/agenda/show/188400
DTSTART;TZID=Europe/Zurich:20250424T183000
DTEND;TZID=Europe/Zurich:20250424T203000
LOCATION:Landgasthof Ochsen\, Dorfplatz 56\, 5063 Wölflinswil
CATEGORIES:Rotary
END:VEVENT
BEGIN:VTIMEZONE
TZID:Europe/Zurich
BEGIN:DAYLIGHT
DTSTART:20250424T183000
TZNAME:CEST
TZOFFSETTO:+0200
TZOFFSETFROM:+0200
END:DAYLIGHT
END:VTIMEZONE
END:VCALENDAR
