BEGIN:VCALENDAR
PRODID:-//eluceo/ical//2.0/EN
VERSION:2.0
CALSCALE:GREGORIAN
BEGIN:VEVENT
UID:463814761f55893cd539d900a73cfed1
DTSTAMP:20260422T113019Z
SUMMARY:Schlussanlass/Partneranlass - Jeck Weine\, Zeiningen
DESCRIPTION:Sitio web: http://www.jeck-weine.ch\nOrador(es): Wir freuen uns
  auf den Schlussanlass bei der Familie Jeck in Zeiningen
URL:https://rotary-laufenburg.ch/es/agenda/show/187668
DTSTART;TZID=Europe/Zurich:20250626T180000
DTEND;TZID=Europe/Zurich:20250626T220000
LOCATION:Jeck Weine\, Steinackerweg 15\, 4314 Zeiningen
CATEGORIES:Rotary
END:VEVENT
BEGIN:VTIMEZONE
TZID:Europe/Zurich
BEGIN:DAYLIGHT
DTSTART:20250626T180000
TZNAME:CEST
TZOFFSETTO:+0200
TZOFFSETFROM:+0200
END:DAYLIGHT
END:VTIMEZONE
END:VCALENDAR
