BEGIN:VCALENDAR
PRODID:-//eluceo/ical//2.0/EN
VERSION:2.0
CALSCALE:GREGORIAN
BEGIN:VEVENT
UID:fc24d92993810940f5053e96fa2e5560
DTSTAMP:20260424T105034Z
SUMMARY:Referat Marc Ritter\, CEO AEW Energie AG\, Aarau
DESCRIPTION:Sitio web: https://www.post-boezen.ch/\nOrador(es): Wir freuen 
 uns über das Referat von Marc Ritter.Herr Ritter referiert zum Schwerpun
 ktthema:Wie geht es mit dem Strom weiter?Fragen:- Wie sieht es mit der akt
 uellen Stromlage in der Schweiz und im AEW Netz aus?- Wie entwickelt sich 
 der Strompreis im AEW Netz weiter?- Ist die Energiestrategie 2050 aus dein
 er Sicht und der Sicht der AEW umsetzbar und realistisch?
URL:https://rotary-laufenburg.ch/es/agenda/show/187662
DTSTART;TZID=Europe/Zurich:20250410T120000
DTEND;TZID=Europe/Zurich:20250410T133000
LOCATION:Restaurant Post\, Bözen\, Hauptstrasse 49\, 5076 Bözen\, Schweiz
CATEGORIES:Rotary
END:VEVENT
BEGIN:VTIMEZONE
TZID:Europe/Zurich
BEGIN:DAYLIGHT
DTSTART:20250410T120000
TZNAME:CEST
TZOFFSETTO:+0200
TZOFFSETFROM:+0200
END:DAYLIGHT
END:VTIMEZONE
END:VCALENDAR
