BEGIN:VCALENDAR
PRODID:-//eluceo/ical//2.0/EN
VERSION:2.0
CALSCALE:GREGORIAN
BEGIN:VEVENT
UID:95d400a225620888657b082d496e65a9
DTSTAMP:20260419T173037Z
SUMMARY:Feierabendbier mit dem RC Rheinfelden - Fricktal
DESCRIPTION:Sitio web: https://brauwelt.ch/restaurant\nOrador(es): Wir lade
 n zum Feierabendbier ein! 
URL:https://rotary-laufenburg.ch/es/agenda/show/183122
DTSTART;TZID=Europe/Zurich:20250617T180000
DTEND;TZID=Europe/Zurich:20250617T180000
LOCATION:Restaurant Feldschlösschen\, Feldschlösschenstrasse 32\, 4310 Rh
 einfelden
CATEGORIES:Rotary
END:VEVENT
BEGIN:VTIMEZONE
TZID:Europe/Zurich
BEGIN:DAYLIGHT
DTSTART:20250617T180000
TZNAME:CEST
TZOFFSETTO:+0200
TZOFFSETFROM:+0200
END:DAYLIGHT
END:VTIMEZONE
END:VCALENDAR
