BEGIN:VCALENDAR
PRODID:-//eluceo/ical//2.0/EN
VERSION:2.0
CALSCALE:GREGORIAN
BEGIN:VEVENT
UID:15e185633ff19e572ae6827afe36ac3c
DTSTAMP:20260422T113301Z
SUMMARY:Feierabendbier mit dem RC Rheinfelden - Fricktal
DESCRIPTION:Sitio web: https://brauwelt.ch/restaurant\nOrador(es): Wir lade
 n zum Feierabendbier ein! 
URL:https://rotary-laufenburg.ch/es/agenda/show/181668
DTSTART;TZID=Europe/Zurich:20250415T180000
DTEND;TZID=Europe/Zurich:20250415T190000
LOCATION:Restaurant Feldschlösschen\, Feldschlösschenstrasse 32\, 4310 Rh
 einfelden
CATEGORIES:Rotary
END:VEVENT
BEGIN:VTIMEZONE
TZID:Europe/Zurich
BEGIN:DAYLIGHT
DTSTART:20250415T180000
TZNAME:CEST
TZOFFSETTO:+0200
TZOFFSETFROM:+0200
END:DAYLIGHT
END:VTIMEZONE
END:VCALENDAR
