BEGIN:VCALENDAR
PRODID:-//eluceo/ical//2.0/EN
VERSION:2.0
CALSCALE:GREGORIAN
BEGIN:VEVENT
UID:5dd0f0d507ea4dd3438ecdee65c016be
DTSTAMP:20260420T025155Z
SUMMARY:Besuch Susanne Bokorny\, Jugendaustausch Rotary Schweiz und Sparlun
 ch Ruedi Erne
DESCRIPTION:Sitio web: https://www.post-boezen.ch/\nOrador(es): Wir freuen 
 uns auf die Präsentation von Susanne Bokorny\, Geschäftsführerin vom Ve
 rein Rotary Jugendaustausch. Frau Bokorny möchte uns den Jugendaustausch 
 näher bringen und hofft\, dass wieder vermehrt Jugendliche so den Weg ins
  Ausland wagen.
URL:https://rotary-laufenburg.ch/es/agenda/show/178583
DTSTART;TZID=Europe/Zurich:20240905T120000
DTEND;TZID=Europe/Zurich:20240905T133000
LOCATION:Restaurant Post\, Bözen\, Hauptstrasse 49\, 5076 Bözen\, Schweiz
CATEGORIES:Rotary
END:VEVENT
BEGIN:VTIMEZONE
TZID:Europe/Zurich
BEGIN:DAYLIGHT
DTSTART:20240905T120000
TZNAME:CEST
TZOFFSETTO:+0200
TZOFFSETFROM:+0200
END:DAYLIGHT
END:VTIMEZONE
END:VCALENDAR
