BEGIN:VCALENDAR
PRODID:-//eluceo/ical//2.0/EN
VERSION:2.0
CALSCALE:GREGORIAN
BEGIN:VEVENT
UID:472ecb960eb354dc8f97ec27db8c205f
DTSTAMP:20260422T133236Z
SUMMARY:Klassifikationsvortrag Sascha Hasler
DESCRIPTION:Sitio web: http://www.park-hotel.ch
URL:https://rotary-laufenburg.ch/es/agenda/show/175511
DTSTART;TZID=Europe/Zurich:20240425T183000
DTEND;TZID=Europe/Zurich:20240425T203000
LOCATION:Park-Hotel am Rhein\, Rheinfelden\, Roberstenstrasse 31\, 4310 Rhe
 infelden\, Schweiz
CATEGORIES:Rotary
END:VEVENT
BEGIN:VTIMEZONE
TZID:Europe/Zurich
BEGIN:DAYLIGHT
DTSTART:20240425T183000
TZNAME:CEST
TZOFFSETTO:+0200
TZOFFSETFROM:+0200
END:DAYLIGHT
END:VTIMEZONE
END:VCALENDAR
