BEGIN:VCALENDAR
PRODID:-//eluceo/ical//2.0/EN
VERSION:2.0
CALSCALE:GREGORIAN
BEGIN:VEVENT
UID:bc8e596965cc3fd77fdbf1c06547bce7
DTSTAMP:20260420T062612Z
SUMMARY:Barbara König\, Kinderheim Youth for hope in Kenia
DESCRIPTION:Sitio web: https://www.post-boezen.ch/
URL:https://rotary-laufenburg.ch/es/agenda/show/175440
DTSTART;TZID=Europe/Zurich:20240502T120000
DTEND;TZID=Europe/Zurich:20240502T133000
LOCATION:Restaurant Post\, Bözen\, Hauptstrasse 49\, 5076 Bözen\, Schweiz
CATEGORIES:Rotary
END:VEVENT
BEGIN:VTIMEZONE
TZID:Europe/Zurich
BEGIN:DAYLIGHT
DTSTART:20240502T120000
TZNAME:CEST
TZOFFSETTO:+0200
TZOFFSETFROM:+0200
END:DAYLIGHT
END:VTIMEZONE
END:VCALENDAR
