BEGIN:VCALENDAR
PRODID:-//eluceo/ical//2.0/EN
VERSION:2.0
CALSCALE:GREGORIAN
BEGIN:VEVENT
UID:3d316bc91c0c9b55807a9d0468a53582
DTSTAMP:20260422T043434Z
SUMMARY:Einführung ins neue Club-Jahr
DESCRIPTION:Sitio web: https://www.post-boezen.ch\nOrador(es): Dr. Niklaus 
 Leemann\, Präsident des Rotary Clubs Laufenburg-Fricktal\, wird das neue 
 Thema für den nächsten Rotary Zyklus vorstellen. 
URL:https://rotary-laufenburg.ch/es/agenda/show/161386
DTSTART;TZID=Europe/Zurich:20230706T120000
DTEND;TZID=Europe/Zurich:20230706T133000
LOCATION:Restaurant Post\, Bözen\, Hauptstrasse 49\, 5076 Bözen\, Schweiz
CATEGORIES:Rotary
END:VEVENT
BEGIN:VTIMEZONE
TZID:Europe/Zurich
BEGIN:DAYLIGHT
DTSTART:20230706T120000
TZNAME:CEST
TZOFFSETTO:+0200
TZOFFSETFROM:+0200
END:DAYLIGHT
END:VTIMEZONE
END:VCALENDAR
