BEGIN:VCALENDAR
PRODID:-//eluceo/ical//2.0/EN
VERSION:2.0
CALSCALE:GREGORIAN
BEGIN:VEVENT
UID:020b3c873d51b12da691969029699c28
DTSTAMP:20260424T042712Z
SUMMARY:Feierabendbier mit RC Rheinfelden
DESCRIPTION:Sitio web: https://brauwelt.ch/de/restaurant/
URL:https://rotary-laufenburg.ch/es/agenda/show/161037
DTSTART;TZID=Europe/Zurich:20230808T180000
DTEND;TZID=Europe/Zurich:20230808T190000
LOCATION:Restaurant Feldschlösschen
CATEGORIES:Rotary
END:VEVENT
BEGIN:VTIMEZONE
TZID:Europe/Zurich
BEGIN:DAYLIGHT
DTSTART:20230808T180000
TZNAME:CEST
TZOFFSETTO:+0200
TZOFFSETFROM:+0200
END:DAYLIGHT
END:VTIMEZONE
END:VCALENDAR
