BEGIN:VCALENDAR
PRODID:-//eluceo/ical//2.0/EN
VERSION:2.0
CALSCALE:GREGORIAN
BEGIN:VEVENT
UID:3d356791b54413e075b11e71ee4e81c7
DTSTAMP:20260424T043119Z
SUMMARY:Präsenzfrühstück
DESCRIPTION:Sitio web: http://www.kunz-baeckerei.ch
URL:https://rotary-laufenburg.ch/es/agenda/show/161035
DTSTART;TZID=Europe/Zurich:20230811T063000
DTEND;TZID=Europe/Zurich:20230811T073000
LOCATION:Bäckerei Kunz\, Stein/AG\, Brotkorbstrasse 1\, 4322 Stein / AG
CATEGORIES:Rotary
END:VEVENT
BEGIN:VTIMEZONE
TZID:Europe/Zurich
BEGIN:DAYLIGHT
DTSTART:20230811T063000
TZNAME:CEST
TZOFFSETTO:+0200
TZOFFSETFROM:+0200
END:DAYLIGHT
END:VTIMEZONE
END:VCALENDAR
