BEGIN:VCALENDAR
PRODID:-//eluceo/ical//2.0/EN
VERSION:2.0
CALSCALE:GREGORIAN
BEGIN:VEVENT
UID:3dd4f1e108ab808599a472d7e6b42cf6
DTSTAMP:20260424T043251Z
SUMMARY:Plauder-Lunch
DESCRIPTION:Sitio web: http://www.park-hotel.ch\nOrador(es): Plauder-Lunch
URL:https://rotary-laufenburg.ch/es/agenda/show/161032
DTSTART;TZID=Europe/Zurich:20230803T120000
DTEND;TZID=Europe/Zurich:20230803T133000
LOCATION:Park-Hotel am Rhein\, Rheinfelden\, Roberstenstrasse 31\, 4310 Rhe
 infelden
CATEGORIES:Rotary
END:VEVENT
BEGIN:VTIMEZONE
TZID:Europe/Zurich
BEGIN:DAYLIGHT
DTSTART:20230803T120000
TZNAME:CEST
TZOFFSETTO:+0200
TZOFFSETFROM:+0200
END:DAYLIGHT
END:VTIMEZONE
END:VCALENDAR
