BEGIN:VCALENDAR
PRODID:-//eluceo/ical//2.0/EN
VERSION:2.0
CALSCALE:GREGORIAN
BEGIN:VEVENT
UID:f27feb3a4c44f312d5c9bb7112c33e66
DTSTAMP:20260422T043217Z
SUMMARY:Plauder-Lunch
DESCRIPTION:Sitio web: https://www.post-boezen.ch\nOrador(es): Plauder-Lunc
 h
URL:https://rotary-laufenburg.ch/es/agenda/show/161029
DTSTART;TZID=Europe/Zurich:20230713T120000
DTEND;TZID=Europe/Zurich:20230713T133000
LOCATION:Restaurant Post\, Bözen\, Hauptstrasse 49\, 5076 Bözen\, Schweiz
CATEGORIES:Rotary
END:VEVENT
BEGIN:VTIMEZONE
TZID:Europe/Zurich
BEGIN:DAYLIGHT
DTSTART:20230713T120000
TZNAME:CEST
TZOFFSETTO:+0200
TZOFFSETFROM:+0200
END:DAYLIGHT
END:VTIMEZONE
END:VCALENDAR
