BEGIN:VCALENDAR
PRODID:-//eluceo/ical//2.0/EN
VERSION:2.0
CALSCALE:GREGORIAN
BEGIN:VEVENT
UID:316b6de6d9419b3397675cb60a7cadab
DTSTAMP:20260425T152055Z
SUMMARY:Referat Sinisha Lüscher - Schwinger
DESCRIPTION:Website: https://www.post-boezen.ch/\nSpeaker(s): Wir freuen un
 s über das Referat von Sinisha Lüscher.\n\nIn mir vereinen sich zwei ver
 schiedene Kulturen: geboren und aufgewachsen in der Schweiz\, mit Wurzeln 
 in Ghana. Trotz meiner Andersartigkeit finde ich in der Tradition des Schw
 ingsports meinen festen Stand. Erfahre mehr darüber\, was mich antreibt u
 nd warum ich glaube\, dass Anderssein und Tradition sich perfekt ergänzen
  können.\n\n
URL:https://rotary-laufenburg.ch/en/agenda/show/193100
DTSTART;TZID=Europe/Zurich:20250710T120000
DTEND;TZID=Europe/Zurich:20250710T133000
LOCATION:Restaurant Post\, Bözen\, Hauptstrasse 49\, 5076 Bözen\, Schweiz
CATEGORIES:Rotary
END:VEVENT
BEGIN:VTIMEZONE
TZID:Europe/Zurich
BEGIN:DAYLIGHT
DTSTART:20250710T120000
TZNAME:CEST
TZOFFSETTO:+0200
TZOFFSETFROM:+0200
END:DAYLIGHT
END:VTIMEZONE
END:VCALENDAR
