BEGIN:VCALENDAR
PRODID:-//eluceo/ical//2.0/EN
VERSION:2.0
CALSCALE:GREGORIAN
BEGIN:VEVENT
UID:95e7917c9c76f01e31e805a3ee329169
DTSTAMP:20260420T223632Z
SUMMARY:Zwischen Tradition und Zukunft: ein Unternehmer im Dialog
DESCRIPTION:Webseite: http://www.park-hotel.ch\nReferenten/innen: Wir freue
 n uns\, Bruno Guntern\, Schweizer Unternehmer\, Gründer und CEO der Marke
  Belowzero sowie der Sport Options AG\, zu einem besonderen Lunch-Talk in 
 unserem Rotary-Programm begrüssen zu dürfen. Bruno Guntern ist seit übe
 r 40 Jahren in der Schweizer Sport- und Textilbranche unterwegs und hat mi
 t Belowzero eine Marke geschaffen\, die für Qualität\, Funktionalität\,
  Nachhaltigkeit und Swissness steht. \nSein Werdegang ist geprägt von unt
 ernehmerischer Vision\, dem Mut zur Rückbesinnung auf Werte und der Fähi
 gkeit\, Innovation mit Haltung zu verbinden. In seinem Impuls-Talk teilt B
 runo Guntern Einblicke in seine unternehmerische Erfahrung\, seine Haltung
  zu nachhaltigem Wirtschaften und die Bedeutung von langfristigem Denken 
 – sowohl in der Industrie als auch im täglichen Leben.Wir freuen uns au
 f einen spannenden Austausch und inspirierende Perspektiven aus der Welt e
 ines erfahrenen Schweizer Unternehmers.
URL:https://rotary-laufenburg.ch/de/agenda/show/208661
DTSTART;TZID=Europe/Zurich:20260319T120000
DTEND;TZID=Europe/Zurich:20260319T133000
LOCATION:Park-Hotel am Rhein\, Rheinfelden\, Roberstenstrasse 31\, 4310 Rhe
 infelden\, Schweiz
CATEGORIES:Rotary
END:VEVENT
BEGIN:VTIMEZONE
TZID:Europe/Zurich
BEGIN:STANDARD
DTSTART:20260319T120000
TZNAME:CET
TZOFFSETTO:+0100
TZOFFSETFROM:+0100
END:STANDARD
END:VTIMEZONE
END:VCALENDAR
