BEGIN:VCALENDAR
PRODID:-//eluceo/ical//2.0/EN
VERSION:2.0
CALSCALE:GREGORIAN
BEGIN:VEVENT
UID:d33115b999054e65b1578acdb073fd41
DTSTAMP:20260421T120618Z
SUMMARY:Leadership fördern: Noémie und Matthias berichten über RYLA
DESCRIPTION:Webseite: https://www.post-boezen.ch/\nReferenten/innen: \n\n\n
 \nRYLA (Rotary Youth Leadership Awards) ist ein von Rotary organisiertes L
 eadership-Programm für junge Erwachsene\, das persönliche Entwicklung\, 
 Verantwortungsbewusstsein und soziale Kompetenzen fördert. Unser Club hat
  die Teilnahme von Noémie Gähler und Matthias Giess an diesem Programm u
 nterstützt. In einem Vortrag bei Rotary berichten die beiden nun über ih
 re Erfahrungen und darüber\, wie RYLA junge Menschen befähigt\, Verantwo
 rtung in Beruf und Gesellschaft zu übernehmen und sich nachhaltig zu vern
 etzen.\n\n\n\n
URL:https://rotary-laufenburg.ch/de/agenda/show/208415
DTSTART;TZID=Europe/Zurich:20260305T120000
DTEND;TZID=Europe/Zurich:20260305T133000
LOCATION:Restaurant Post\, Bözen\, Hauptstrasse 49\, 5076 Bözen\, Schweiz
CATEGORIES:Rotary
END:VEVENT
BEGIN:VTIMEZONE
TZID:Europe/Zurich
BEGIN:STANDARD
DTSTART:20260305T120000
TZNAME:CET
TZOFFSETTO:+0100
TZOFFSETFROM:+0100
END:STANDARD
END:VTIMEZONE
END:VCALENDAR
